BEGIN:VCALENDAR
VERSION:2.0
PRODID:-//ChamberMaster//Event Calendar 2.0//EN
METHOD:PUBLISH
X-PUBLISHED-TTL:P3D
REFRESH-INTERVAL:P3D
CALSCALE:GREGORIAN
BEGIN:VEVENT
DTSTART:20260409T183000Z
DTEND:20260409T200000Z
X-MICROSOFT-CDO-ALLDAYEVENT:FALSE
SUMMARY:Women's Networking Group
DESCRIPTION:Join us for our Women's Networking Group as we connect\, collaborate\, and support one another in business and leadership.\n\n\n\nFor the months of March and April\, we will be taking a pause from featured speakers to create space for networking and to gather feedback from participants. Your ideas and suggestions will help shape the future format and direction of this monthly event.\n\n\n\nParticipants are welcome to bring their lunch. Light refreshments will be provided.\n\n\n\nThe Women's Networking Group is held the \n\n2nd Thursday of the month\, 11:30 AM - 1:00 PM
X-ALT-DESC;FMTTYPE=text/html:<p class="pf0" style="text-align: center\;">&nbsp\;</p>\n\n<p class="pf0" style="text-align: center\;"><span style="font-size: 18px\;"><span style="font-family: arial\;">Join us for our Women&rsquo\;s Networking Group as we connect\, collaborate\, and support one another in business and leadership.<br />\n<br />\nFor the months of March and April\, we will be taking a pause from featured speakers to create space for networking and to gather feedback from participants. Your ideas and suggestions will help shape the future format and direction of this monthly event.<br />\n<br />\nParticipants are welcome to bring their lunch. Light refreshments will be provided.</span></span><br />\n<br />\n<span style="font-size: 18px\;"><span style="font-family: arial\;">The Women&#39\;s Networking Group is held the&nbsp\;<br />\n2nd Thursday of the month\, 11:30 AM - 1:00 PM</span></span></p>\n
LOCATION:Concord Chamber Conference Room 2280 Diamond Blvd.\, Suite 200 Concord\, Ca 94520 Parking: Please park in Visitor or Parking Spaces Numbered 200
UID:e.821.14706
SEQUENCE:3
DTSTAMP:20260419T142759Z
URL:http://business.concordchamber.com/events/details/women-s-networking-group-14706
END:VEVENT

END:VCALENDAR
