BEGIN:VCALENDAR
VERSION:2.0
PRODID:-//ChamberMaster//Event Calendar 2.0//EN
METHOD:PUBLISH
X-PUBLISHED-TTL:P3D
REFRESH-INTERVAL:P3D
CALSCALE:GREGORIAN
BEGIN:VEVENT
DTSTART:20261012T023000Z
DTEND:20261012T043000Z
X-MICROSOFT-CDO-ALLDAYEVENT:FALSE
SUMMARY:TLC\, Salt-N-Pepa & En Vogue at Toyota Pavilion at Concord
DESCRIPTION:It's so iconic that tickets are selling fast! We're not kidding\, TLC and Salt-N-Pepa's co headlining showdown has got fans scrambling for access\, but the most awesome thing is that Ticket Squeeze has got you covered! You can get first dibs on access as TLC\, Salt-N-Pepa\, and their special guest En Vogue drop by Concord\, California for a one night bonanza over at the Toyota Pavilion at Concord! Here's the thing\, on Sunday 11th October 2026\, you'll be catching top notch R&B and hip-hop classics from the 90s! It's a spectacular display of the classics as these dynamos bust out titles like "Whattaman\," "Waterfalls\," "No Scrubs\," and tons more smashing hits!
X-ALT-DESC;FMTTYPE=text/html:It&rsquo\;s so iconic that tickets are selling fast! We&rsquo\;re not kidding\, TLC and Salt-N-Pepa&rsquo\;s co headlining showdown has got fans scrambling for access\, but the most awesome thing is that Ticket Squeeze has got you covered! You can get first dibs on access as TLC\, Salt-N-Pepa\, and their special guest En Vogue drop by Concord\, California for a one night bonanza over at the Toyota Pavilion at Concord! Here&rsquo\;s the thing\, on Sunday 11th October 2026\, you&rsquo\;ll be catching top notch R&amp\;B and hip-hop classics from the 90s! It&rsquo\;s a spectacular display of the classics as these dynamos bust out titles like &ldquo\;Whattaman\,&rdquo\; &ldquo\;Waterfalls\,&rdquo\; &ldquo\;No Scrubs\,&rdquo\; and tons more smashing hits!
LOCATION:Concord Pavilion\, 2000 Kirker Pass Road\, Concord\, California 94521
UID:e.821.14810
SEQUENCE:3
DTSTAMP:20260419T223254Z
URL:http://business.concordchamber.com/events/details/tlc-salt-n-pepa-en-vogue-at-toyota-pavilion-at-concord-14810
END:VEVENT

END:VCALENDAR
