BEGIN:VCALENDAR
VERSION:2.0
PRODID:-//ChamberMaster//Event Calendar 2.0//EN
METHOD:PUBLISH
X-PUBLISHED-TTL:P3D
REFRESH-INTERVAL:P3D
CALSCALE:GREGORIAN
BEGIN:VEVENT
DTSTART:20260428T154500Z
DTEND:20260428T170000Z
X-MICROSOFT-CDO-ALLDAYEVENT:FALSE
SUMMARY:Negocios Hispanos de Concord
DESCRIPTION:Join us in April for a presentation on\n\nBanking and Access to Capital by Fiorella Hardt and City National Bank Partner\, Nina Lang.\n\n\n\n\n\nThe Negocios Hispanos de Concord meeting is held\n\nThe Last Tuesday of the month\, 8:45 AM - 10:00 AM\n\n nase a nosotros para nuestra reuni n mensual de Negocios Hispanos de Concord\n\nEl  ltimo martes del mes de\, 8:45 AM - 10:00 AM\n\n\n\nEngage with insightful speaker presentations\, network with local businesses\, collaborate on new ideas\, and gain valuable skills that will support your personal and professional growth.\n\nParticipa en presentaciones de ponentes inspiradores\, haz networking con empresas locales\, colabora en nuevas ideas y adquiere habilidades valiosas que apoyar n tu crecimiento personal y profesional.
X-ALT-DESC;FMTTYPE=text/html:<div style="text-align: center\;"><span style="text-align: center\; font-size: 20px\;"><strong>Join us in April for a presentation on<br />\nBanking and Access to Capital by Fiorella Hardt and City National Bank Partner\, Nina Lang.</strong></span><br style="font-size: 18px\; text-align: center\;" />\n<br />\n<br />\n<span style="font-size:18px\;">The Negocios Hispanos de Concord meeting is held<br />\nThe Last Tuesday of the month\,&nbsp\;8:45 AM - 10:00 AM<br />\n&Uacute\;nase a nosotros para nuestra reuni&oacute\;n mensual de Negocios Hispanos de Concord<br />\nEl &uacute\;ltimo martes del mes de\,&nbsp\;8:45 AM - 10:00 AM<br />\n<br />\n<span style="color: rgb(51\, 51\, 51)\; text-align: center\; background-color: rgb(255\, 255\, 255)\;">Engage with insightful speaker presentations\, network with local businesses\, collaborate on new ideas\, and gain valuable skills&nbsp\;that will support your personal and professional growth.</span><br />\nParticipa en presentaciones de ponentes inspiradores\, haz networking con empresas locales\, colabora en nuevas ideas y adquiere habilidades valiosas que apoyar&aacute\;n tu crecimiento personal y profesional.</span></div>\n
LOCATION:Gratitude Coffee Bar 1655 Willow Pass Rd.\, Suite B. Concord
UID:e.821.14742
SEQUENCE:3
DTSTAMP:20260419T153011Z
URL:http://business.concordchamber.com/events/details/negocios-hispanos-de-concord-14742
END:VEVENT

END:VCALENDAR
