BEGIN:VCALENDAR
VERSION:2.0
PRODID:-//ChamberMaster//Event Calendar 2.0//EN
METHOD:PUBLISH
X-PUBLISHED-TTL:P3D
REFRESH-INTERVAL:P3D
CALSCALE:GREGORIAN
BEGIN:VEVENT
DTSTART:20260716T230000Z
DTEND:20260717T010000Z
X-MICROSOFT-CDO-ALLDAYEVENT:FALSE
SUMMARY:Mega Mixer - Business After Hours Mixer TBD
DESCRIPTION:Join us for the 2026 Summer Multi-Chamber Mega Mixer\n\n\n\nThe East Bay Chambers will be joining together for a networking event that you will not want to miss.\n\n\n\nLight refreshments and a no host bar will be provided. \n\n\n\nEach Chamber will have a Food Vendor providing samples.\n\n\n\nMore details to come.....\n\n\n\nWe look forward to seeing you there!
X-ALT-DESC;FMTTYPE=text/html:<div style="text-align: center\;"><span style="font-size: 18px\;">Join us for the 2026 Summer Multi-Chamber Mega Mixer<br />\n<br />\nThe East Bay Chambers will be joining together for a networking event that you will not want to miss.<br />\n<br />\nLight refreshments and a no host bar will be provided.&nbsp\;<br />\n<br />\nEach Chamber will have a Food Vendor providing samples.<br />\n<br />\nMore details to come.....</span><br />\n<br />\n<span style="font-size: 18px\;">We look forward to seeing you there!</span></div>\n
LOCATION:TBD
UID:e.821.14733
SEQUENCE:3
DTSTAMP:20260419T183943Z
URL:http://business.concordchamber.com/events/details/mega-mixer-business-after-hours-mixer-tbd-14733
END:VEVENT

END:VCALENDAR
