BEGIN:VCALENDAR
VERSION:2.0
PRODID:-//ChamberMaster//Event Calendar 2.0//EN
METHOD:PUBLISH
X-PUBLISHED-TTL:P3D
REFRESH-INTERVAL:P3D
CALSCALE:GREGORIAN
BEGIN:VEVENT
DTSTART:20260521T160000Z
DTEND:20260521T193000Z
X-MICROSOFT-CDO-ALLDAYEVENT:FALSE
SUMMARY:Future Proof Your Business
DESCRIPTION:This half-day training is your opportunity to turn AI uncertainty into a competitive advantage.\n\n\n\nThe Concord Chamber of Commerce and East Bay Leadership Council have teamed up with Meta  to bring this training to our business community. Led by certified Meta Blueprint trainers\, the session is specifically designed for small business owners and leaders who want a practical\, confidence-building foundation in AI and Meta's most powerful tools. Through this exclusive partnership\, you'll gain actionable strategies to save time\, reduce risk\, and accelerate growth   alongside a community of fellow business leaders who are ready to do the same.\n\n\n\nWhat will be covered:\n\nWhat AI is and how it works.\n\nMeta AI-powered tools and best practices.\n\nResponsible strategies to drive long term business success.\n\n\n\nBonus: Free Lunch & Surprise Giveaway!\n\n\n\nQUESTIONS? CONTACT: META@SAGE-STRAT.COM
X-ALT-DESC;FMTTYPE=text/html:<div style="text-align: center\;"><span style="font-size:18px\;"><span style="font-family:arial\;">This half-day training is your opportunity to turn AI uncertainty into a competitive&nbsp\;advantage.</span><br />\n<br />\nThe Concord Chamber of Commerce and East Bay Leadership Council have teamed up with Meta&nbsp\; to bring this training to our business community.&nbsp\;<span style="font-family:arial\;">Led by certified Meta Blueprint trainers\, the session is specifically designed&nbsp\;for small business owners and leaders who want a practical\, confidence-building&nbsp\;foundation in AI and Meta&#39\;s most powerful tools. Through this exclusive partnership\, you&#39\;ll&nbsp\;gain actionable strategies to save time\, reduce risk\, and accelerate growth &mdash\; alongside a&nbsp\;community of fellow business leaders who are ready to do the same.<br />\n<br />\nWhat will be covered:<br />\nWhat AI is and how it works.<br />\nMeta AI-powered tools and best practices.<br />\nResponsible strategies to drive long term business success.<br />\n<br />\n<strong>Bonus: Free Lunch &amp\; Surprise Giveaway!</strong><br />\n<br />\nQUESTIONS? CONTACT: META@SAGE-STRAT.COM</span></span><br />\n&nbsp\;</div>\n\n<div style="text-align: center\;">&nbsp\;</div>\n
LOCATION:Hilton Concord 1970 Diamond Blvd Concord\, CA 94520
UID:e.821.14821
SEQUENCE:3
DTSTAMP:20260423T222231Z
URL:http://business.concordchamber.com/events/details/future-proof-your-business-14821
END:VEVENT

END:VCALENDAR
