BEGIN:VCALENDAR
VERSION:2.0
PRODID:-//ChamberMaster//Event Calendar 2.0//EN
METHOD:PUBLISH
X-PUBLISHED-TTL:P3D
REFRESH-INTERVAL:P3D
CALSCALE:GREGORIAN
BEGIN:VEVENT
DTSTART:20260820T230000Z
DTEND:20260821T010000Z
X-MICROSOFT-CDO-ALLDAYEVENT:FALSE
SUMMARY:Business After Hours Mixer hosted by Joybound
DESCRIPTION:Joybound\n\nwill be hosting the August Mixer.\n\n\n\nWalnut Chamber of Commerce will be joining us for a Joint Business After Hours Mixer at Joybound.\n\n\n\nConnect with fellow Chamber staff\, Ambassadors\, Board members\, and other members of the Concord Chamber of Commerce at our Business After Hours Mixer.\n\nThis is a great opportunity to network\, catch up with friends\, and establish new connections.\n\n\nWe look forward to seeing you there!
X-ALT-DESC;FMTTYPE=text/html:<div style="text-align: center\;"><span style="text-align: center\; font-family: arial\; font-size: 20px\; font-weight: 700\;">Joybound</span><br style="text-align: center\; font-family: arial\; font-size: 20px\; font-weight: 700\; box-sizing: border-box\;" />\n<span style="text-align: center\; font-family: arial\; font-size: 20px\; font-weight: 700\;">will be hosting the August&nbsp\;Mixer.</span><br />\n<br />\n<span style="font-size: 18px\;">Walnut Chamber of Commerce will be joining us for a Joint Business After Hours Mixer at Joybound.<br />\n<br />\nConnect with fellow Chamber staff\, Ambassadors\, Board members\, and other members of the Concord Chamber of Commerce at our Business After Hours Mixer.<br />\nThis is a great opportunity to network\, catch up with friends\, and establish new connections.</span></div>\n\n<div style="text-align: center\;">\n<p><span style="font-size: 18px\;">We look forward to seeing you there!</span></p>\n</div>\n
LOCATION:Joybound 2890 Mitchell Drive Walnut Creek\, CA 94598
UID:e.821.14734
SEQUENCE:3
DTSTAMP:20260419T200702Z
URL:http://business.concordchamber.com/events/details/business-after-hours-mixer-hosted-by-joybound-14734
END:VEVENT

END:VCALENDAR
