BEGIN:VCALENDAR
VERSION:2.0
PRODID:-//ChamberMaster//Event Calendar 2.0//EN
METHOD:PUBLISH
X-PUBLISHED-TTL:P3D
REFRESH-INTERVAL:P3D
CALSCALE:GREGORIAN
BEGIN:VEVENT
DTSTART:20261120T000000Z
DTEND:20261120T020000Z
X-MICROSOFT-CDO-ALLDAYEVENT:FALSE
SUMMARY:Business After Hours Mixer hosted by Hospice East Bay
DESCRIPTION:Hospice East Bay\n\nwill be hosting the November Mixer.\n\n\n\nConnect with fellow Chamber staff\, Ambassadors\, Board members\, and other members of the Concord Chamber of Commerce at our Business After Hours Mixer.\n\nThis is a great opportunity to network\, catch up with friends\, and establish new connections.\n\n\nWe look forward to seeing you there!
X-ALT-DESC;FMTTYPE=text/html:<div style="text-align: center\;"><span style="text-align: center\; font-family: arial\; font-size: 20px\; font-weight: 700\;">Hospice East Bay</span><br style="text-align: center\; font-family: arial\; font-size: 20px\; font-weight: 700\; box-sizing: border-box\;" />\n<span style="text-align: center\; font-family: arial\; font-size: 20px\; font-weight: 700\;">will be hosting the November&nbsp\;Mixer.</span><br />\n<br />\n<span style="font-size: 18px\;">Connect with fellow Chamber staff\, Ambassadors\, Board members\, and other members of the Concord Chamber of Commerce at our Business After Hours Mixer.<br />\nThis is a great opportunity to network\, catch up with friends\, and establish new connections.</span></div>\n\n<div style="text-align: center\;">\n<p><span style="font-size: 18px\;">We look forward to seeing you there!</span></p>\n</div>\n
LOCATION:Hospice East Bay 3470 Buskirk Avenue Pleasanton Hill\, CA 94523
UID:e.821.14737
SEQUENCE:3
DTSTAMP:20260420T043805Z
URL:http://business.concordchamber.com/events/details/business-after-hours-mixer-hosted-by-hospice-east-bay-14737
END:VEVENT

END:VCALENDAR
