BEGIN:VCALENDAR
VERSION:2.0
PRODID:-//ChamberMaster//Event Calendar 2.0//EN
METHOD:PUBLISH
X-PUBLISHED-TTL:P3D
REFRESH-INTERVAL:P3D
CALSCALE:GREGORIAN
BEGIN:VEVENT
DTSTART:20260405T000000Z
DTEND:20260405T030000Z
X-MICROSOFT-CDO-ALLDAYEVENT:FALSE
SUMMARY:2026 Hop N' Roll Bowling Bash
DESCRIPTION:Save the Date!\n\nHop 'n' Roll Bowling Tournament Saturday\, April 4\, 2026 | Clayton Valley Bowl\, Concord Join the Rotary Club of Concord-Diablo for Hop 'n' Roll\, a fun and festive bowling tournament held the day before Easter! This lighthearted community event brings together families\, bowlers\, and neighbors to support the local and international service projects Rotary champions throughout the year. We're currently seeking: Raffle and silent auction donations Event sponsors to be recognized on banners\, printed materials\, social media\, and at the tournament Your support helps fund youth leadership programs\, literacy initiatives\, and global humanitarian efforts while giving your business valuable visibility in the community.\n\n\n\nIf you'd like to donate or become a sponsor\, please contact:  ms_knight@sbcglobal.net  (707) 688-6395 Mark your calendar and get ready to hop on board for Hop 'n' Roll a joyful way to give back and celebrate the season!
X-ALT-DESC;FMTTYPE=text/html:Save the Date!<br />\nHop &lsquo\;n&rsquo\; Roll Bowling Tournament Saturday\, April 4\, 2026 | Clayton Valley Bowl\, Concord Join the Rotary Club of Concord-Diablo for Hop &lsquo\;n&rsquo\; Roll\, a fun and festive bowling tournament held the day before Easter! This lighthearted community event brings together families\, bowlers\, and neighbors to support the local and international service projects Rotary champions throughout the year. We&rsquo\;re currently seeking: Raffle and silent auction donations Event sponsors to be recognized on banners\, printed materials\, social media\, and at the tournament Your support helps fund youth leadership programs\, literacy initiatives\, and global humanitarian efforts&mdash\;while giving your business valuable visibility in the community.<br />\n<br />\nIf you&rsquo\;d like to donate or become a sponsor\, please contact:&nbsp\; ms_knight@sbcglobal.net&nbsp\; (707) 688-6395 Mark your calendar and get ready to hop on board for Hop &rsquo\;n&rsquo\; Roll&mdash\;a joyful way to give back and celebrate the season!
LOCATION:Clayton Valley Bowl Concord\, CA
UID:e.821.14672
SEQUENCE:3
DTSTAMP:20260419T152707Z
URL:http://business.concordchamber.com/events/details/2026-hop-n-roll-bowling-bash-14672
END:VEVENT

END:VCALENDAR
